BEGIN:VCALENDAR
VERSION:2.0
PRODID:-//4 Corners Beekeepers Association - ECPv6.15.20//NONSGML v1.0//EN
CALSCALE:GREGORIAN
METHOD:PUBLISH
X-WR-CALNAME:4 Corners Beekeepers Association
X-ORIGINAL-URL:https://4cornersbeekeepers.com
X-WR-CALDESC:Events for 4 Corners Beekeepers Association
REFRESH-INTERVAL;VALUE=DURATION:PT1H
X-Robots-Tag:noindex
X-PUBLISHED-TTL:PT1H
BEGIN:VTIMEZONE
TZID:America/Denver
BEGIN:DAYLIGHT
TZOFFSETFROM:-0700
TZOFFSETTO:-0600
TZNAME:MDT
DTSTART:20250309T090000
END:DAYLIGHT
BEGIN:STANDARD
TZOFFSETFROM:-0600
TZOFFSETTO:-0700
TZNAME:MST
DTSTART:20251102T080000
END:STANDARD
BEGIN:DAYLIGHT
TZOFFSETFROM:-0700
TZOFFSETTO:-0600
TZNAME:MDT
DTSTART:20260308T090000
END:DAYLIGHT
BEGIN:STANDARD
TZOFFSETFROM:-0600
TZOFFSETTO:-0700
TZNAME:MST
DTSTART:20261101T080000
END:STANDARD
BEGIN:DAYLIGHT
TZOFFSETFROM:-0700
TZOFFSETTO:-0600
TZNAME:MDT
DTSTART:20270314T090000
END:DAYLIGHT
BEGIN:STANDARD
TZOFFSETFROM:-0600
TZOFFSETTO:-0700
TZNAME:MST
DTSTART:20271107T080000
END:STANDARD
END:VTIMEZONE
BEGIN:VEVENT
DTSTART;TZID=America/Denver:20260425T130000
DTEND;TZID=America/Denver:20260425T150000
DTSTAMP:20260423T063248
CREATED:20260109T004920Z
LAST-MODIFIED:20260109T004953Z
UID:1419-1777122000-1777129200@4cornersbeekeepers.com
SUMMARY:4CBA Bee Package Delivery Day!    Time of delivery TBD!
DESCRIPTION:
URL:https://4cornersbeekeepers.com/event/4cba-bee-package-delivery-day/
LOCATION:Zuberfizz\, 284 Sawyer Dr Ste A\, Durango\, CO\, 81301\, United States
END:VEVENT
BEGIN:VEVENT
DTSTART;TZID=America/Denver:20260521T183000
DTEND;TZID=America/Denver:20260521T200000
DTSTAMP:20260423T063248
CREATED:20260109T005612Z
LAST-MODIFIED:20260410T120514Z
UID:1423-1779388200-1779393600@4cornersbeekeepers.com
SUMMARY:4CBA Club Meeting with Kirk Webster
DESCRIPTION:Author and beekeeper Kirk Webster of Vermont joins us to discuss his nuc preparation. \nKirk Webster’s book
URL:https://4cornersbeekeepers.com/event/4cba-club-meeting-with-kirk-webster/
LOCATION:Zoom\, United States
END:VEVENT
BEGIN:VEVENT
DTSTART;TZID=America/Denver:20260618T183000
DTEND;TZID=America/Denver:20260618T200000
DTSTAMP:20260423T063248
CREATED:20260109T005731Z
LAST-MODIFIED:20260109T005731Z
UID:1427-1781807400-1781812800@4cornersbeekeepers.com
SUMMARY:4CBA Club Meeting - Presenter TBD
DESCRIPTION:
URL:https://4cornersbeekeepers.com/event/4cba-club-meeting-presenter-tbd/
LOCATION:Florida Baptist Church\, 30296 US-160\, Durango\, CO\, 81301\, United States
END:VEVENT
BEGIN:VEVENT
DTSTART;TZID=America/Denver:20260717T183000
DTEND;TZID=America/Denver:20260717T200000
DTSTAMP:20260423T063248
CREATED:20260109T005843Z
LAST-MODIFIED:20260109T005843Z
UID:1430-1784313000-1784318400@4cornersbeekeepers.com
SUMMARY:4CBA Club Meeting - Ice Cream Social
DESCRIPTION:
URL:https://4cornersbeekeepers.com/event/4cba-club-meeting-ice-cream-social/
LOCATION:CO
END:VEVENT
BEGIN:VEVENT
DTSTART;TZID=America/Denver:20260820T183000
DTEND;TZID=America/Denver:20260820T200000
DTSTAMP:20260423T063248
CREATED:20260109T010152Z
LAST-MODIFIED:20260109T010152Z
UID:1433-1787250600-1787256000@4cornersbeekeepers.com
SUMMARY:4CBA Club Meeting - Annual Pot Luck at Lilybee Farm
DESCRIPTION:https://lilybeefarm.com/
URL:https://4cornersbeekeepers.com/event/4cba-club-meeting-annual-pot-luck-at-lilybee-farm/
LOCATION:LilliBee Farms
END:VEVENT
END:VCALENDAR